BEGIN:VCALENDAR
BEGIN:VEVENT
CLASS:PUBLIC
CREATED:20260422T135910
DESCRIPTION:

Speak to Ann &amp; Stephen for admission and details information

Foundation / Pathway option to -

CITY University London
Glasgow Caledonian University
INTO London World Education Center
INTO Manchester
Manchester Metropolitan University
INTO Manchester in Partnership with the University of Manchester
INTO Newton A level Programme
Newcastle University
Queens University Belfast
St. Georges, University of London
University of East Anglia
University of Exeter
Gloucestershire University
University of Stirling

They offer options for direct Entry, International year one, Foundation and Pathway programmes in above mentioned Universities and many more ....
DTEND:20160604T203000
DTSTAMP:20260422T135910
DTSTART:20160604T160000
LAST-MODIFIED:20091109T101015Z
LOCATION:Vertical Horizon , House: 31/A, Road: 6, Dhanmondi, Dhaka, , 1205
SUMMARY;LANGUAGE=en-us:Meet Ann Auta-Jones & Stephen from INTO Higher 
BEGIN:VALARM
TRIGGER:-PT1440M
ACTION:DISPLAY
DESCRIPTION:Reminder
END:VALARM
END:VEVENT
END:VCALENDAR
